BEGIN:VCALENDAR
VERSION:2.0
PRODID:-//Hanover Conservancy - ECPv6.11.0//NONSGML v1.0//EN
CALSCALE:GREGORIAN
METHOD:PUBLISH
X-WR-CALNAME:Hanover Conservancy
X-ORIGINAL-URL:https://www.hanoverconservancy.org
X-WR-CALDESC:Events for Hanover Conservancy
REFRESH-INTERVAL;VALUE=DURATION:PT1H
X-Robots-Tag:noindex
X-PUBLISHED-TTL:PT1H
BEGIN:VTIMEZONE
TZID:America/New_York
BEGIN:DAYLIGHT
TZOFFSETFROM:-0500
TZOFFSETTO:-0400
TZNAME:EDT
DTSTART:20260308T070000
END:DAYLIGHT
BEGIN:STANDARD
TZOFFSETFROM:-0400
TZOFFSETTO:-0500
TZNAME:EST
DTSTART:20261101T060000
END:STANDARD
END:VTIMEZONE
BEGIN:VEVENT
DTSTART;TZID=America/New_York:20260422T173000
DTEND;TZID=America/New_York:20260722T183000
DTSTAMP:20260423T065929
CREATED:20260109T223240Z
LAST-MODIFIED:20260401T192824Z
UID:10520-1776879000-1784745000@www.hanoverconservancy.org
SUMMARY:Reading Nature: A Conservation Book Club
DESCRIPTION:Curl up and get cozy with a nature-themed book this winter and spring\, then come out and join us for a monthly group discussion at the Howe Library. We’ll read a mix of conservation classics as well as recent releases\, all illuminating different aspects of our relationships with the natural world.\n\n\n\nLoaner copies of the books are available at the Howe Library (no library card required). For more information and to sign up\, visit the Howe’s event calendar at the links below.\n\nOur reading list:\n\nFebruary – Backyard Bird Chronicles\, Amy Tan\nMarch – Entangled Life: How Fungi Make Our Worlds\, Merlin Sheldrake\nApril – The Seed Keeper\, Diane Wilson\nMay – Is a River Alive?\, Robert Macfarlane (link coming soon) \n\n\n\n\nWhen: The fourth Wednesdays of February (2/25)\, March (3/25)\, April (4/22)\, and May (5/27)\, from 5:30-6:30 PM\nWhere: The Howe Library\, with a Zoom option available. Pre-registration is appreciated.
URL:https://www.hanoverconservancy.org/event/reading-nature-a-conservation-book-club/
LOCATION:The Howe Library\, 13 South Street\, Hanover\, NH\, 03755\, United States
CATEGORIES:Indoor Program
END:VEVENT
END:VCALENDAR